BEGIN:VCALENDAR
VERSION:2.0
PRODID:-//Ashwaubenon PAC | Green Bay - ECPv6.15.20//NONSGML v1.0//EN
CALSCALE:GREGORIAN
METHOD:PUBLISH
X-WR-CALNAME:Ashwaubenon PAC | Green Bay
X-ORIGINAL-URL:https://ashwaubenonpac.org
X-WR-CALDESC:Events for Ashwaubenon PAC | Green Bay
REFRESH-INTERVAL;VALUE=DURATION:PT1H
X-Robots-Tag:noindex
X-PUBLISHED-TTL:PT1H
BEGIN:VTIMEZONE
TZID:America/Chicago
BEGIN:DAYLIGHT
TZOFFSETFROM:-0600
TZOFFSETTO:-0500
TZNAME:CDT
DTSTART:20180311T080000
END:DAYLIGHT
BEGIN:STANDARD
TZOFFSETFROM:-0500
TZOFFSETTO:-0600
TZNAME:CST
DTSTART:20181104T070000
END:STANDARD
BEGIN:DAYLIGHT
TZOFFSETFROM:-0600
TZOFFSETTO:-0500
TZNAME:CDT
DTSTART:20190310T080000
END:DAYLIGHT
BEGIN:STANDARD
TZOFFSETFROM:-0500
TZOFFSETTO:-0600
TZNAME:CST
DTSTART:20191103T070000
END:STANDARD
BEGIN:DAYLIGHT
TZOFFSETFROM:-0600
TZOFFSETTO:-0500
TZNAME:CDT
DTSTART:20200308T080000
END:DAYLIGHT
BEGIN:STANDARD
TZOFFSETFROM:-0500
TZOFFSETTO:-0600
TZNAME:CST
DTSTART:20201101T070000
END:STANDARD
END:VTIMEZONE
BEGIN:VEVENT
DTSTART;TZID=America/Chicago:20191222T193000
DTEND;TZID=America/Chicago:20191222T210000
DTSTAMP:20260421T111446
CREATED:20190812T185202Z
LAST-MODIFIED:20200923T191045Z
UID:103-1577043000-1577048400@ashwaubenonpac.org
SUMMARY:DADDY D’S CHRISTMAS
DESCRIPTION:Daddy D Productions’ 13th annual Christmas show!  Traditional tunes arranged in a contemporary fashion and funny bits and skits appropriate for the whole family.  Daddy D’s Christmas musical review has become a tradition for thousands of Wisconsinites during the holiday season.  It’s all about the season\, family and fun. \nSongs include: Mary Did You Know\, Away in a Manger / I Can Only Imagine\, O Holy Night\, The First Noel\, The Christmas Song\, Have Yourself A Merry Little Christmas\, All I Want For Christmas Is You\, Silent Night\, Please Come Home For Xmas\, I’ll Be Home For Christmas\, The Hallelujah Chorus and a more.
URL:https://ashwaubenonpac.org/event/daddy-ds-christmas/
CATEGORIES:KROLL’S WEST REGIONAL SERIES
ATTACH;FMTTYPE=image/jpeg:https://ashwaubenonpac.org/wp-content/uploads/2019/08/Daddy-Ds-Christmas-2.jpg
END:VEVENT
BEGIN:VEVENT
DTSTART;TZID=America/Chicago:20191219T193000
DTEND;TZID=America/Chicago:20191219T210000
DTSTAMP:20260421T111446
CREATED:20190812T185130Z
LAST-MODIFIED:20200923T191049Z
UID:101-1576783800-1576789200@ashwaubenonpac.org
SUMMARY:JOHN KELLEY and the FUSION XPRESS ORCHESTRA-FXO
DESCRIPTION:A NOT SO SILENT NIGHT \nCome celebrate a night of holiday favorites as John Kelley & the Fusion Xpress Orchestra (FXO) light up the stage and turn up the heat as only they can do. Enjoy an eclectic blend and intense fusion of Classical\, Rock\, Jazz\, Musical Theatre and Holiday Favorites as FXO takes you on an unforgettable musical sleigh ride. They Rock the Classics and Classic the Rock. This is one show you don’t want to miss! \nArrive early!  Guest opener\, THE SPEAKO CHORDS\, will kick off the night at 7:00.\nThe Speako Chords is Kate Stenson on violin and Bernie Rocheleau on guitar. The duo plays acoustic covers of classic rock\, bluegrass and pop songs along with original works. As a special guest of John Kelly and the Fusion Xpress Orchestra\, the Speako Chords will be performing traditional and contemporary holiday music opening FXO’s “Not So Silent Night” with noise in the attic from the “Ghosts on Christmas Eve”.
URL:https://ashwaubenonpac.org/event/john-kelley-the-fusion-express-orchestra/
CATEGORIES:KROLL’S WEST REGIONAL SERIES
ATTACH;FMTTYPE=image/jpeg:https://ashwaubenonpac.org/wp-content/uploads/2019/08/John-Kelley_2.jpg
END:VEVENT
BEGIN:VEVENT
DTSTART;TZID=America/Chicago:20191214T183000
DTEND;TZID=America/Chicago:20191214T183000
DTSTAMP:20260421T111446
CREATED:20191105T211302Z
LAST-MODIFIED:20200923T191051Z
UID:929-1576348200-1576348200@ashwaubenonpac.org
SUMMARY:BARB'S CENTRE FOR DANCE & BALLET "SPIRIT OF THE HOLIDAYS"
DESCRIPTION:BARB’S CENTRE FOR DANCE & BALLET \n360 Presents 21st Annual Spirit of the Holidays \nThe holiday shows feature our holiday dance ensembles along with our competition dance troupes\, lines and teams.  These young dancers will perform original tap\, jazz\, lyrical and ballet works to both traditional and contemporary holiday music.  We will be having a Silent Auction and Bake Sale. The second half of the show will feature a section from The Nutcracker presented by our Ballet 360 Academy. \nAs is tradition\, all profits generated by the shows and silent auction are donated to local charities. This year’s beneficiaries will be The Freedom House\, Colton’s Cure\, Muscular Dystrophy Association The Pillars (formerly Homeless Connections)\, Ribbon of Hope Foundation and Prevent Suicide Fox Cities  Our total charitable contribution from last year’s Green Bay and Fox Valley locations was over $40\,000. During the past 20 years the combined shows have raised over $318\,000 for local charitable organizations!
URL:https://ashwaubenonpac.org/event/barbs-centre-for-dance-ballet-spirit-of-the-holidays-2/
ATTACH;FMTTYPE=image/jpeg:https://ashwaubenonpac.org/wp-content/uploads/2019/11/Barbs-featured-image.jpg
END:VEVENT
BEGIN:VEVENT
DTSTART;TZID=America/Chicago:20191214T130000
DTEND;TZID=America/Chicago:20191214T130000
DTSTAMP:20260421T111446
CREATED:20191105T210216Z
LAST-MODIFIED:20200923T191126Z
UID:920-1576328400-1576328400@ashwaubenonpac.org
SUMMARY:BARB'S CENTRE FOR DANCE & BALLET "SPIRIT OF THE HOLIDAYS"
DESCRIPTION:BARB’S CENTRE FOR DANCE & BALLET 360 presents 21st Annual Spirit of the Holidays \nThe holiday shows feature our holiday dance ensembles along with our competition dance troupes\, lines and teams. These young dancers will perform original tap\, jazz\, lyrical and ballet works to both traditional and contemporary holiday music. We will be having a Silent Auction and Bake Sale. The second half of the show will feature a section from The Nutcracker presented by our Ballet 360 Academy. \nAs is tradition\, all profits generated by the shows and silent auction are donated to local charities. This year’s beneficiaries will be The Freedom House\, Colton’s Cure\, Muscular Dystrophy Association The Pillars (formerly Homeless Connections)\, Ribbon of Hope Foundation and Prevent Suicide Fox Cities Our total charitable contribution from last year’s Green Bay and Fox Valley locations was over $40\,000. During the past 20 years the combined shows have raised over $318\,000 for local charitable organizations!
URL:https://ashwaubenonpac.org/event/barbs-centre-for-dance-ballet-spirit-of-the-holidays/
ATTACH;FMTTYPE=image/jpeg:https://ashwaubenonpac.org/wp-content/uploads/2019/11/Barbs-featured-image.jpg
END:VEVENT
BEGIN:VEVENT
DTSTART;TZID=America/Chicago:20191201T160000
DTEND;TZID=America/Chicago:20191201T183000
DTSTAMP:20260421T111446
CREATED:20190812T185045Z
LAST-MODIFIED:20191009T223009Z
UID:99-1575216000-1575225000@ashwaubenonpac.org
SUMMARY:LES MISÉRABLES
DESCRIPTION:PRESENTED BY ASHWAUBENON HIGH SCHOOL PERFORMING ARTS \nLes Misérables is the world’s longest running musical — a true modern classic based on Victor Hugo’s novel and featuring one of the most memorable scores of all time. Set against the backdrop of 19th-century France\, Les Misérables tells an enthralling story of broken dreams and unrequited love\, passion\, sacrifice and redemption—a timeless testament to the survival of the human spirit. \nEpic\, grand and uplifting\, Les Misérables School Edition strikes an emotional chord that continues to thrill audiences all over the world.
URL:https://ashwaubenonpac.org/event/les-miserables-3/
CATEGORIES:KROLL’S WEST REGIONAL SERIES
ATTACH;FMTTYPE=image/jpeg:https://ashwaubenonpac.org/wp-content/uploads/2019/08/Les-Miserables_2.jpg
END:VEVENT
BEGIN:VEVENT
DTSTART;TZID=America/Chicago:20191130T190000
DTEND;TZID=America/Chicago:20191130T213000
DTSTAMP:20260421T111446
CREATED:20190812T184959Z
LAST-MODIFIED:20200923T191128Z
UID:96-1575140400-1575149400@ashwaubenonpac.org
SUMMARY:LES MISÉRABLES
DESCRIPTION:PRESENTED BY ASHWAUBENON HIGH SCHOOL PERFORMING ARTS \nLes Misérables is the world’s longest running musical — a true modern classic based on Victor Hugo’s novel and featuring one of the most memorable scores of all time. Set against the backdrop of 19th-century France\, Les Misérables tells an enthralling story of broken dreams and unrequited love\, passion\, sacrifice and redemption—a timeless testament to the survival of the human spirit. \nEpic\, grand and uplifting\, Les Misérables School Edition strikes an emotional chord that continues to thrill audiences all over the world.
URL:https://ashwaubenonpac.org/event/les-miserables-2/
CATEGORIES:KROLL’S WEST REGIONAL SERIES
ATTACH;FMTTYPE=image/jpeg:https://ashwaubenonpac.org/wp-content/uploads/2019/08/Les-Miserables_2.jpg
END:VEVENT
BEGIN:VEVENT
DTSTART;TZID=America/Chicago:20191124T130000
DTEND;TZID=America/Chicago:20191124T160000
DTSTAMP:20260421T111446
CREATED:20190815T144424Z
LAST-MODIFIED:20200923T191131Z
UID:160-1574600400-1574611200@ashwaubenonpac.org
SUMMARY:LES MISÉRABLES
DESCRIPTION:PRESENTED BY ASHWAUBENON HIGH SCHOOL PERFORMING ARTS \nLes Misérables is the world’s longest running musical — a true modern classic based on Victor Hugo’s novel and featuring one of the most memorable scores of all time. Set against the backdrop of 19th-century France\, Les Misérables tells an enthralling story of broken dreams and unrequited love\, passion\, sacrifice and redemption—a timeless testament to the survival of the human spirit. \nEpic\, grand and uplifting\, Les Misérables School Edition strikes an emotional chord that continues to thrill audiences all over the world. \n—————————————————————————————————- \nPERFORMANCE TIME CHANGE\nThe following notice was sent on 11/15/19 to 7pm ticket holders: \nThe performance time for Ashwaubenon High School’s production of Les Misérables on Sunday\, November 24 has been changed to 1:00 PM. \nPlease keep your tickets.\nYour tickets reflecting the original 7:00 PM show time will be honored at the new 1:00 PM performance. \nThis change was made due to the Green Bay Packers’ adjusted game schedule. \nIf you are unable to attend the new 1:00 PM performance\, please return your tickets to Ticket Star by 5:00 PM Friday\, November 22 to exchange your tickets to another performance of Les Misérables\, or for a refund. \nTicket Star\n1901 S Oneida St (inside the Resch Center lobby)\nMonday – Friday\, 11:00 AM – 5:00 PM \n Thank you for your understanding. \nSincerely\, \nThe Musical Directors and Cast of Ashwaubenon High School’s Les Miserables
URL:https://ashwaubenonpac.org/event/les-miserables-6/
CATEGORIES:KROLL’S WEST REGIONAL SERIES
ATTACH;FMTTYPE=image/jpeg:https://ashwaubenonpac.org/wp-content/uploads/2019/08/Les-Miserables_2.jpg
END:VEVENT
BEGIN:VEVENT
DTSTART;TZID=America/Chicago:20191123T190000
DTEND;TZID=America/Chicago:20191123T213000
DTSTAMP:20260421T111446
CREATED:20190815T144334Z
LAST-MODIFIED:20200923T191132Z
UID:156-1574535600-1574544600@ashwaubenonpac.org
SUMMARY:LES MISÉRABLES
DESCRIPTION:PRESENTED BY ASHWAUBENON HIGH SCHOOL PERFORMING ARTS \nLes Misérables is the world’s longest running musical — a true modern classic based on Victor Hugo’s novel and featuring one of the most memorable scores of all time. Set against the backdrop of 19th-century France\, Les Misérables tells an enthralling story of broken dreams and unrequited love\, passion\, sacrifice and redemption—a timeless testament to the survival of the human spirit. \nEpic\, grand and uplifting\, Les Misérables School Edition strikes an emotional chord that continues to thrill audiences all over the world.
URL:https://ashwaubenonpac.org/event/les-miserables-4/
CATEGORIES:KROLL’S WEST REGIONAL SERIES
ATTACH;FMTTYPE=image/jpeg:https://ashwaubenonpac.org/wp-content/uploads/2019/08/Les-Miserables_2.jpg
END:VEVENT
BEGIN:VEVENT
DTSTART;TZID=America/Chicago:20191122T190000
DTEND;TZID=America/Chicago:20191122T213000
DTSTAMP:20260421T111446
CREATED:20190812T184933Z
LAST-MODIFIED:20200923T191137Z
UID:94-1574449200-1574458200@ashwaubenonpac.org
SUMMARY:LES MISÉRABLES
DESCRIPTION:PRESENTED BY ASHWAUBENON HIGH SCHOOL PERFORMING ARTS \nLes Misérables is the world’s longest running musical — a true modern classic based on Victor Hugo’s novel and featuring one of the most memorable scores of all time. Set against the backdrop of 19th-century France\, Les Misérables tells an enthralling story of broken dreams and unrequited love\, passion\, sacrifice and redemption—a timeless testament to the survival of the human spirit. \nEpic\, grand and uplifting\, Les Misérables School Edition strikes an emotional chord that continues to thrill audiences all over the world.
URL:https://ashwaubenonpac.org/event/les-miserables/
CATEGORIES:KROLL’S WEST REGIONAL SERIES
ATTACH;FMTTYPE=image/jpeg:https://ashwaubenonpac.org/wp-content/uploads/2019/08/Les-Miserables_2.jpg
END:VEVENT
BEGIN:VEVENT
DTSTART;TZID=America/Chicago:20191102T183000
DTEND;TZID=America/Chicago:20191102T200000
DTSTAMP:20260421T111446
CREATED:20190812T184849Z
LAST-MODIFIED:20200923T191139Z
UID:92-1572719400-1572724800@ashwaubenonpac.org
SUMMARY:ONE NIGHT IN MEMPHIS: PRESLEY\, PERKINS\, LEWIS & CASH
DESCRIPTION:“One Night in Memphis” is a rocking concert tribute to legendary Sun Records recording artists Carl Perkins\, Johnny Cash\, Jerry Lee Lewis and Elvis Presley. Over 90 minutes of rockabilly\, country\, gospel and pure 1950’s rock and roll music performed live and backed by an authentic and energetic rockabilly backup band. Created and directed by John Mueller from the highly acclaimed show\, “Winter Dance Party” this show has met with the same accolades\, sell out shows and audience standing ovations. Be a witness to a rock and roll royalty jam session with the music and talent that has stood the test of time. True American music featuring the hits\, “Blue Suede Shoes\,” “Folsom Prison Blues\,” “Great Balls of Fire\,” “Whole lotta Shaking Going On\,” “Shake\, Rattle and Roll\,” “Don’t Be Cruel\,” “Hound Dog\,” and many\, many more with acclaimed national talent\, all performed live without tracks and guaranteed to get any audience rocking and rolling! \n  \nHISTORY \nOn December 4th\, 1956 music history was made. This date found Carl Perkins\, Johnny Cash\, Jerry Lee Lewis and Elvis Presley together at Sun Record’s studio in Memphis\, TN. A jam session ensued which seems to have happened by pure chance. Perkins\, who by this time had already met success with “Blue Suede Shoes”\, had come into the studio that day\, accompanied by his brothers Clayton and Jay and by drummer W.S. Holland\, to cut some new material\, including a revamped version of an old blues song\, “Matchbox”. Sam Phillips\, the owner of Sun Records\, who wished to try to fatten this sparse rockabilly instrumentation\, had brought in his latest acquisition\, singer and piano man extraordinaire Jerry Lee Lewis\, still unknown outside Memphis\, to play piano on the Perkins session. Sometime in the early afternoon\, Elvis Presley\, a former Sun artist himself but now at RCA\, dropped in to pay a casual visit. He was\, at the time\, the biggest name in show business\, having hit the top of the singles charts five times\, and topping the album charts twice in the preceding 12-month period. Less than four months earlier\, he had appeared on The Ed Sullivan Show\, pulling an unheard of 83% of the television audience\, which was estimated at 55 million\, the largest in history up to that time. After chatting with Philips in the control room\, Presley listened to the playback of Perkins’ session\, which he pronounced to be good. Then he went out into the studio and sometime later the jam session began. At some point during the session\, Sun artist Johnny Cash\, who had recently enjoyed a few hits on the country charts\, popped in. Cowboy Jack Clement was engineering that day and remembers saying to himself “I think I’d be remiss not to record this” and so he did and the night became rock and roll music history. Many famous artists such as Bob Dylan recall listening to these recordings and being tremendously inspired.
URL:https://ashwaubenonpac.org/event/one-night-in-memphis-presley-perkins-lewis-cash/
CATEGORIES:TOURING SERIES
ATTACH;FMTTYPE=image/jpeg:https://ashwaubenonpac.org/wp-content/uploads/2019/08/One-Night-In-Memphis_2.jpg
END:VEVENT
BEGIN:VEVENT
DTSTART;TZID=America/Chicago:20191026T180000
DTEND;TZID=America/Chicago:20191026T200000
DTSTAMP:20260421T111446
CREATED:20190822T203222Z
LAST-MODIFIED:20200923T191141Z
UID:327-1572112800-1572120000@ashwaubenonpac.org
SUMMARY:SARA GROVES & JASON GRAY
DESCRIPTION:Presented by Cup ‘O Joy \nDoors open at 6:00pm \nTickets $30 plus $1 Facility Fee and applicable service fees\nTickets on sale Friday\, August 23 at 11:00 AM \nCELEBRATING 30 YEARS! \n The Cup is moving; be a part of the blessing! \nDonations of support at this special show will be matched up to $10\,000 by: Trophies of Grace\, Q90FM\, FOX11\, 91.9 & 91.5 The Family\, WRVM FM 102.7\, Relevant Radio 1050 AM\, Script Charms\, and by Mary Ward in Loving Memory of Daughter Glenda (Ward) Knightstep.
URL:https://ashwaubenonpac.org/event/sara-groves-jason-gray/
ATTACH;FMTTYPE=image/jpeg:https://ashwaubenonpac.org/wp-content/uploads/2019/08/Sara-Groves-Jason-Gray_2.jpg
END:VEVENT
BEGIN:VEVENT
DTSTART;TZID=America/Chicago:20191019T183000
DTEND;TZID=America/Chicago:20191019T200000
DTSTAMP:20260421T111446
CREATED:20190812T184659Z
LAST-MODIFIED:20200923T191143Z
UID:85-1571509800-1571515200@ashwaubenonpac.org
SUMMARY:A CAVALCADE OF BIG BANDS
DESCRIPTION:FEATURING THE DICK STRAUSS MANY HAPPY RETURNS ORCHESTRA\nAlso featuring the Radio Rosies performing Andrews Sisters and McGuire Sisters Hits\, and Valery Sarno performing the Hits of Ella Fitzgerald \nA celebration of the big band era featuring all the signature songs of the world’s best known bands! Join Dick Strauss and the Many Happy Returns Orchestra as they bring us back to the days of their youth when the sounds of big band swing and jazz were everywhere. Celebrating the great artists who brought us the music of the thirties and forties: Benny Goodman\, Glenn Miller\, Woody Herman\, Duke Ellington\, Les Brown\, Xavier Cugat\, Guy Lombardo\, Harry James\, Stan Kenton\, and more! \nThis event is a Limelight Event!  Arrive early (doors open at 6:00pm) and enjoy complimentary hors d’oeuvres by CheeseCake Heaven\, refreshments\, and fabulous silent action items in support of the Ashwaubenon PAC. Auction items provided by the Green Bay Packers\, American Foods Group\, Paulson Hardware\, Verlo Mattress\, Ridgeview Liquor\, Heid Music\, Williams Auto Body\, and more. We’ll also thank you for attending with a special gift at the end of the night! \n \nA Center Stage Affair: Dim the Lights and Donate! \nSchneider Foundation Limelight Events offer a little something extra to your show experience! While these special events are centered around fantastic live entertainment\, we also invite you to join us for savory canapés in the lobby and great opportunities to support the performing arts\, including naming a seat in the theatre.
URL:https://ashwaubenonpac.org/event/a-cavalcade-of-big-bands/
CATEGORIES:TOURING SERIES
ATTACH;FMTTYPE=image/jpeg:https://ashwaubenonpac.org/wp-content/uploads/2019/08/A-Cavalcade-of-Big-Bands.jpg
END:VEVENT
BEGIN:VEVENT
DTSTART;TZID=America/Chicago:20191013T183000
DTEND;TZID=America/Chicago:20191013T200000
DTSTAMP:20260421T111446
CREATED:20190812T184634Z
LAST-MODIFIED:20200923T191145Z
UID:83-1570991400-1570996800@ashwaubenonpac.org
SUMMARY:GO GREEN BAY
DESCRIPTION:Go Green Bay is Daddy D Productions homage to the Titletown tailgate! The Green and Gold have this particular Sunday off\, so Daddy D Productions and Kevin Van Ess and The Talk Of The Town head over the Ashwaubenon PAC.  From big band sounds to stadium anthems and even a dose of goofy comedy.  When we want fun we Go Green Bay! \nSongs like: On Wisconsin\, In Heaven There is No Beer\, Hit Me with Your Best Shot\, Take Me Out To The Ball Game\, Roll Out The Barrel\, We Will Rock You\, We Are the Champions\, funny bits and Wisconsin style comedy.  Polka in the aisles with the rest of us that Go Green Bay!
URL:https://ashwaubenonpac.org/event/go-green-bay/
CATEGORIES:KROLL’S WEST REGIONAL SERIES
ATTACH;FMTTYPE=image/jpeg:https://ashwaubenonpac.org/wp-content/uploads/2019/08/Go-Green-Bay.jpg
END:VEVENT
BEGIN:VEVENT
DTSTART;TZID=America/Chicago:20191011T183000
DTEND;TZID=America/Chicago:20191011T200000
DTSTAMP:20260421T111446
CREATED:20190812T184608Z
LAST-MODIFIED:20200923T191147Z
UID:81-1570818600-1570824000@ashwaubenonpac.org
SUMMARY:MARK TWAIN REVISITED
DESCRIPTION:WITH PARKER DREW \n50th Anniversary Performance! \nMr. Drew’s critically acclaimed tribute to America’s greatest author and humorist has toured to over 500 theaters in 37 states. This is a rare opportunity to experience the unique humor and timeless wisdom of Mark Twain\, brought to life by veteran television\, radio\, and theatrical performer Parker Drew. \n“Your face hurts from laughing and smiling so much.” \nGreen Bay Press – Gazette \n“The audience started laughing and continued for the next two hours.” \nLouisville Courier – Journal
URL:https://ashwaubenonpac.org/event/mark-twain-revisited/
CATEGORIES:KROLL’S WEST REGIONAL SERIES
ATTACH;FMTTYPE=image/jpeg:https://ashwaubenonpac.org/wp-content/uploads/2019/08/Mark-Twain-Revisted_2.jpg
END:VEVENT
BEGIN:VEVENT
DTSTART;TZID=America/Chicago:20191005T130000
DTEND;TZID=America/Chicago:20191005T160000
DTSTAMP:20260421T111446
CREATED:20190812T184533Z
LAST-MODIFIED:20200923T191149Z
UID:79-1570280400-1570291200@ashwaubenonpac.org
SUMMARY:MALLORY LEWIS & LAMB CHOP
DESCRIPTION:A LAMB CHOP CELEBRATION \nFor audiences of ALL ages! \nAs the daughter of beloved children’s entertainer Shari Lewis\, Mallory Lewis has been deeply involved in children’s entertainment her entire life.  Following her mother’s passing in 1998\, Mallory began appearing with Lamb Chop at thousands of venues around the world. A true audience favorite\, join in the fun and the memories as Mallory celebrates her mother and the character she brought to life for us to love: Lamb Chop!
URL:https://ashwaubenonpac.org/event/mallory-lewis-lamb-chop-a-lamb-chop-celebration/
CATEGORIES:GEORGE KRESS FOUNDATION FAMILY PROGRAMMING
ATTACH;FMTTYPE=image/jpeg:https://ashwaubenonpac.org/wp-content/uploads/2019/08/Mallory-Lewis_2.jpg
END:VEVENT
BEGIN:VEVENT
DTSTART;TZID=America/Chicago:20190907T180000
DTEND;TZID=America/Chicago:20190907T200000
DTSTAMP:20260421T111446
CREATED:20190822T203419Z
LAST-MODIFIED:20200923T191154Z
UID:333-1567879200-1567886400@ashwaubenonpac.org
SUMMARY:BACK TO SCHOOL BENEFIT CONCERT
DESCRIPTION:Presented by NEW Fusion Dance & Performing Arts \nSilent Auction at 6:00pm \nTickets $13 in advance / $15 at the door\, plus applicable fees \nTickets on sale August 12 at 11:00 AM \nLap passes for children ages 3 and under will be available night of show at the Ashwaubenon PAC Ticket Office. \nNEW Fusion Dance and Performing Arts\, in collaboration with additional area dance studios\, present the Back To School Benefit Concert! These community dancers will be bringing their talents together to raise money for Fusion Foundation\, Aspiro\, and SOAR Fox Cities. This high-energy performance will feature dancers from our participating studios as well as guest performers from Chicago and Arizona. It will be an evening of learning about and supporting wonderful community organizations. Come and join us for an evening of entertainment while giving back to the community. \nThis event is separate from the Ashwaubenon PAC’s Performing Arts Series
URL:https://ashwaubenonpac.org/event/back-to-school-benefit-concert/
ATTACH;FMTTYPE=image/jpeg:https://ashwaubenonpac.org/wp-content/uploads/2019/08/Back-to-School-Benefit_2.jpg
END:VEVENT
END:VCALENDAR